BEGIN:VCALENDAR
VERSION:2.0
PRODID:-//Center for Home Movies - ECPv6.15.20//NONSGML v1.0//EN
CALSCALE:GREGORIAN
METHOD:PUBLISH
X-WR-CALNAME:Center for Home Movies
X-ORIGINAL-URL:https://www.centerforhomemovies.org
X-WR-CALDESC:Events for Center for Home Movies
REFRESH-INTERVAL;VALUE=DURATION:PT1H
X-Robots-Tag:noindex
X-PUBLISHED-TTL:PT1H
BEGIN:VTIMEZONE
TZID:Europe/London
BEGIN:DAYLIGHT
TZOFFSETFROM:+0000
TZOFFSETTO:+0100
TZNAME:BST
DTSTART:20200329T010000
END:DAYLIGHT
BEGIN:STANDARD
TZOFFSETFROM:+0100
TZOFFSETTO:+0000
TZNAME:GMT
DTSTART:20201025T010000
END:STANDARD
BEGIN:DAYLIGHT
TZOFFSETFROM:+0000
TZOFFSETTO:+0100
TZNAME:BST
DTSTART:20210328T010000
END:DAYLIGHT
BEGIN:STANDARD
TZOFFSETFROM:+0100
TZOFFSETTO:+0000
TZNAME:GMT
DTSTART:20211031T010000
END:STANDARD
BEGIN:DAYLIGHT
TZOFFSETFROM:+0000
TZOFFSETTO:+0100
TZNAME:BST
DTSTART:20220327T010000
END:DAYLIGHT
BEGIN:STANDARD
TZOFFSETFROM:+0100
TZOFFSETTO:+0000
TZNAME:GMT
DTSTART:20221030T010000
END:STANDARD
END:VTIMEZONE
BEGIN:VTIMEZONE
TZID:America/Los_Angeles
BEGIN:DAYLIGHT
TZOFFSETFROM:-0800
TZOFFSETTO:-0700
TZNAME:PDT
DTSTART:20200308T100000
END:DAYLIGHT
BEGIN:STANDARD
TZOFFSETFROM:-0700
TZOFFSETTO:-0800
TZNAME:PST
DTSTART:20201101T090000
END:STANDARD
BEGIN:DAYLIGHT
TZOFFSETFROM:-0800
TZOFFSETTO:-0700
TZNAME:PDT
DTSTART:20210314T100000
END:DAYLIGHT
BEGIN:STANDARD
TZOFFSETFROM:-0700
TZOFFSETTO:-0800
TZNAME:PST
DTSTART:20211107T090000
END:STANDARD
BEGIN:DAYLIGHT
TZOFFSETFROM:-0800
TZOFFSETTO:-0700
TZNAME:PDT
DTSTART:20220313T100000
END:DAYLIGHT
BEGIN:STANDARD
TZOFFSETFROM:-0700
TZOFFSETTO:-0800
TZNAME:PST
DTSTART:20221106T090000
END:STANDARD
END:VTIMEZONE
BEGIN:VTIMEZONE
TZID:America/New_York
BEGIN:DAYLIGHT
TZOFFSETFROM:-0500
TZOFFSETTO:-0400
TZNAME:EDT
DTSTART:20200308T070000
END:DAYLIGHT
BEGIN:STANDARD
TZOFFSETFROM:-0400
TZOFFSETTO:-0500
TZNAME:EST
DTSTART:20201101T060000
END:STANDARD
BEGIN:DAYLIGHT
TZOFFSETFROM:-0500
TZOFFSETTO:-0400
TZNAME:EDT
DTSTART:20210314T070000
END:DAYLIGHT
BEGIN:STANDARD
TZOFFSETFROM:-0400
TZOFFSETTO:-0500
TZNAME:EST
DTSTART:20211107T060000
END:STANDARD
BEGIN:DAYLIGHT
TZOFFSETFROM:-0500
TZOFFSETTO:-0400
TZNAME:EDT
DTSTART:20220313T070000
END:DAYLIGHT
BEGIN:STANDARD
TZOFFSETFROM:-0400
TZOFFSETTO:-0500
TZNAME:EST
DTSTART:20221106T060000
END:STANDARD
END:VTIMEZONE
BEGIN:VEVENT
DTSTART;VALUE=DATE:20210101
DTEND;VALUE=DATE:20210802
DTSTAMP:20260421T055717
CREATED:20201030T212349Z
LAST-MODIFIED:20210805T204245Z
UID:15808-1609459200-1627862399@www.centerforhomemovies.org
SUMMARY:Traça [Moth] – Mostra de Filmes de Arquivos Familiares
DESCRIPTION:TRAÇA [moth] is a project for gathering\, study and exhibition of home movies\, promoted by the Lisbon City Council. \nIt has existed since 2015 as a Home Movie Showcase and since its beginning it has been established on two fundamental pillars: the territory\, taken from the history of its occupation\, and the archive\, whose limits it seeks to expand. \nThe program of TRAÇA’s 3rd edition\, in 2020\, is presented through a digital route at the web site http://www.traca-arquivo.com/\, a route that maps out the paths between Marvila and Alvalade\, two neighborhoods of Lisbon. The platform was updated on each of the days of the local exhibition\, between the 19th of October and the 25th of October. Following each digital route of events and screenings\, several concepts are discussed\, such as: displacement\, construction\, self-construction\, occupation and memory. \nThe project seeks to draw an imaginary and common map that intersects and superimposes the ‘emotionality’ of the memories and the private images that it is gathering\, with the ‘reality’ of the streets and buildings of Lisbon. In this vein\, the history of Lisbon gains another dimension\, private\, unique\, hitherto unknown and plural\, a counterpoint to the official history as it is written by the eyes of those who inhabit the city. \nA TRAÇA é um projeto de recolha\, estudo e exposição de filmes de família promovido pela Videoteca do Arquivo Municipal de Lisboa. \nExiste desde 2015 enquanto Mostra de Filmes de Arquivos Familiares e desde o seu início assenta sobre dois pilares fundamentais: o território\, tratado a partir da história da sua habitação\, e o arquivo\, cujos limites procura expandir. \nA programação da 3.ª edição da TRAÇA é apresentada através de um percurso digital (www.traca-arquivo.com)\, atualizado em cada um dos dias da mostra (19-25 de Outubro). O percurso mapeia percursos físicos em Marvila e Alvalade e problematiza também noções de deslocação\, construção\, autoconstrução\, ocupação e memória. \nEste projeto procura então traçar um mapa imaginário e comum\, feito no cruzamento de todas as memórias e imagens individuais que está a recolher\, e sobrepõe esse mapa\, que é também emocional\, a um outro\, real\, feito de ruas e edifícios. A história de Lisboa ganha assim uma outra dimensão\, privada\, única e até aqui desconhecida\, contrapondo à história oficial\, uma outra\, plural\, escrita pelos olhos de quem habita a cidade.? \n 
URL:https://www.centerforhomemovies.org/event/traca-moth-mostra-de-filmes-de-arquivos-familiares/
LOCATION:Arquivo Municipal de Lisboa | Videoteca\, Largo Calvário 2\, Lisboa\, Lisboa\, 1300-113\, Portugal
CATEGORIES:Home Movie Day 2020 Event,Video program
ATTACH;FMTTYPE=image/png:https://www.centerforhomemovies.org/wp-content/uploads/TracaDay.png
ORGANIZER;CN="Arquivo Municipal de Lisboa | Videoteca":MAILTO:videoteca@cm-lisboa.pt
END:VEVENT
BEGIN:VEVENT
DTSTART;VALUE=DATE:20210415
DTEND;VALUE=DATE:20210601
DTSTAMP:20260421T055717
CREATED:20210415T172537Z
LAST-MODIFIED:20210415T180158Z
UID:15898-1618444800-1622505599@www.centerforhomemovies.org
SUMMARY:Home Movie Day\, Palm Springs at Modernism Week
DESCRIPTION:Traveling Through Time with Obsolete Media: See rare Palm Springs footage! Join home movie experts/collectors and Palm Springs residents Melissa Dollman and Devin Orgeron in their living room where they will take viewers on a guided tour of amateur films shot in and around the region (1940s-1970s). \nSee footage of important and long-gone desert landmarks and events like the original Bullocks on Palm Canyon\, Higgins Ladd Hardware\, The Desert Circus\, El Mirador\, Thunderbird Country Club in Rancho Mirage\, and Desi Arnaz’s Western Hills Hotel in Indian Wells. \nFollow these midcentury amateur cinematographers as they document Movieland Wax Museum\, Calico Ghost Town\, Santa’s Village\, Solvang\, Las Vegas at night\, and much\, much more. \nBONUS: Learn about Home Movie Day\, Palm Springs\, an annual celebration of all things 8mm\, Super 8\, and 16mm hosted by Melissa and Devin who invite you to go digging and bring your own home movies (found\, borrowed\, purloined) for inspection and projection ON ORIGINAL MECHANICAL EQUIPMENT. \n[arve url=”https://www.youtube.com/watch?v=OC4U_GsVltc” align=”center” /]
URL:https://www.centerforhomemovies.org/event/home-movie-day-palm-springs-modernism-week/
LOCATION:Palm Springs Public Library\, 300 S. Sunrise Way\, Palm Springs\, CA\, 92262\, United States
CATEGORIES:Video program
ATTACH;FMTTYPE=image/png:https://www.centerforhomemovies.org/wp-content/uploads/Screen-Shot-2021-02-18-at-2.45.45-PM.png
ORGANIZER;CN="Home Movie Day%2C Palm Springs":MAILTO:devin.orgeron@gmail.com
END:VEVENT
BEGIN:VEVENT
DTSTART;TZID=America/New_York:20210504T133000
DTEND;TZID=America/New_York:20210504T143000
DTSTAMP:20260421T055717
CREATED:20210429T195017Z
LAST-MODIFIED:20210504T160758Z
UID:15906-1620135000-1620138600@www.centerforhomemovies.org
SUMMARY:Tourist Films in Brazil: New Approaches to a National Home Movie Historiography
DESCRIPTION:Join CHM and CineLimite on May 4th for “Tourist Films in Brazil: New Approaches to a National Home Movie Historiography.” In conversation with William Plotnick\, co-founder of CineLimite\, and Lila Foster\, curator and researcher\, and moderated by CHM’s Kate Dollenmayer\, this panel will examine what role tourist films such as those in the Cinelimite Film Collection play in the larger national historiographical understanding of home movies in Brazil. \nRegister here: https://us02web.zoom.us/webinar/register/WN_kxX8Nb2GSWm1dY-MKwDHtw \nCinelimite is a new New York City based non-profit organization dedicated to expanding access to the history of Brazilian Cinema in the United States and internationally. One of Cinelimite’s missions is to collect\, digitize\, and make freely accessible home movies that were filmed in Brazil. Over the last year\, in addition to working on Brazilian family collections\, the Cinelimite team has begun collecting and digitizing “tourist” films\, i.e.\, films shot by people visiting Brazil on vacation or business trips that brought 8mm or Super 8mm cameras with them.
URL:https://www.centerforhomemovies.org/event/tourist-films-in-brazil-new-approaches-to-a-national-home-movie-historiography/
LOCATION:The Center for Home Movies\, Grass Valley\, CA\, 95945\, United States
CATEGORIES:Live program
ATTACH;FMTTYPE=image/png:https://www.centerforhomemovies.org/wp-content/uploads/Screen-Shot-2021-04-29-at-1.53.57-PM.png
ORGANIZER;CN="The Center for Home Movies":MAILTO:info@centerforhomemovies.org
END:VEVENT
END:VCALENDAR